BEGIN:VCALENDAR
VERSION:2.0
PRODID:-//Newport News Alumnae Chapter - ECPv6.15.20//NONSGML v1.0//EN
CALSCALE:GREGORIAN
METHOD:PUBLISH
X-ORIGINAL-URL:https://nnacdst.org
X-WR-CALDESC:Events for Newport News Alumnae Chapter
REFRESH-INTERVAL;VALUE=DURATION:PT1H
X-Robots-Tag:noindex
X-PUBLISHED-TTL:PT1H
BEGIN:VTIMEZONE
TZID:America/New_York
BEGIN:DAYLIGHT
TZOFFSETFROM:-0500
TZOFFSETTO:-0400
TZNAME:EDT
DTSTART:20240310T070000
END:DAYLIGHT
BEGIN:STANDARD
TZOFFSETFROM:-0400
TZOFFSETTO:-0500
TZNAME:EST
DTSTART:20241103T060000
END:STANDARD
BEGIN:DAYLIGHT
TZOFFSETFROM:-0500
TZOFFSETTO:-0400
TZNAME:EDT
DTSTART:20250309T070000
END:DAYLIGHT
BEGIN:STANDARD
TZOFFSETFROM:-0400
TZOFFSETTO:-0500
TZNAME:EST
DTSTART:20251102T060000
END:STANDARD
BEGIN:DAYLIGHT
TZOFFSETFROM:-0500
TZOFFSETTO:-0400
TZNAME:EDT
DTSTART:20260308T070000
END:DAYLIGHT
BEGIN:STANDARD
TZOFFSETFROM:-0400
TZOFFSETTO:-0500
TZNAME:EST
DTSTART:20261101T060000
END:STANDARD
BEGIN:DAYLIGHT
TZOFFSETFROM:-0500
TZOFFSETTO:-0400
TZNAME:EDT
DTSTART:20270314T070000
END:DAYLIGHT
BEGIN:STANDARD
TZOFFSETFROM:-0400
TZOFFSETTO:-0500
TZNAME:EST
DTSTART:20271107T060000
END:STANDARD
END:VTIMEZONE
BEGIN:VEVENT
DTSTART;TZID=America/New_York:20251009T190000
DTEND;TZID=America/New_York:20251009T190000
DTSTAMP:20260424T124236
CREATED:20251007T192741Z
LAST-MODIFIED:20251007T192923Z
UID:9326-1760036400-1760036400@nnacdst.org
SUMMARY:Virginia November Election: Gubernatorial Debate
DESCRIPTION:Virginia Social Action – Delta Sigma Theta Sorority\, Inc. is proud to serve as the community partner in a historic collaboration with Norfolk State University and Nexstar Media Group for a landmark gubernatorial debate featuring Lieutenant Governor Winsome Earle-Sears and former Congresswoman Abigail Spanberger. \nThis is the first time Norfolk State University has partnered with a Divine Nine organization to host a debate of this scale. The event\, deeply rooted in the shared values of higher education\, civic education\, and civic engagement\, will take place on Thursday\, October 9\, 2025\, at 7:00 PM at the L. Douglas Wilder Performing Arts Center on the Norfolk State campus. As the only gubernatorial debate scheduled between these candidates for the 2025 election cycle\, it is expected to reach over 4 million households through Nexstar Media Group’s broadcast network. \nClosed to the Public\, but please watch via one of the streaming sources!  The Virginia Gubernatorial Debate Partner Stations: Where to Watch: \n WAVY-TV\n* Network: NBC\n* Market: Norfolk\, VA\n* Station Website: wavy.com\n* Social Media: @WAVY_news \n WRIC-TV\n* Network\n* Market: Richmond\, VA\n* Station Website: wric.com\n* Social Media: @8News \n WFXR-TV\n* Network: FOX\n* Market: Roanoke\, VA\n* Station Website: WFXRtv.com\n* Social Media: @WFXRnews \n WDCW-TV\n* Network: CW\n* Market: Washington\, D.C.\n* Station Website: dcnewsnow.com\n* Social Media: @DCNewsNow \n WDVM-TV\n* Network: Independent (IND)\n* Market: Washington\, D.C.\n* Station Website: dcnewsnow.com\n* Social Media: @DCNewsNow \n WJHL-TV\n* Network: CBS\n* Market: Tri-Cities\, TN\n* Station Website: wjhl.com\n* Social Media: @wjhl11 \n EJHL-TV\n* Network: ABC\n* Market: Tri-Cities\, TN\n* Station Website: wjhl.com\n* Social Media: @wjhl11
URL:https://nnacdst.org/event/virginia-november-election-gubernatorial-debate/
ATTACH;FMTTYPE=image/png:https://nnacdst.org/wp-content/uploads/2025/10/Debate.png
END:VEVENT
BEGIN:VEVENT
DTSTART;TZID=America/New_York:20251021T180000
DTEND;TZID=America/New_York:20251021T201500
DTSTAMP:20260424T124236
CREATED:20251013T181605Z
LAST-MODIFIED:20251013T182830Z
UID:9408-1761069600-1761077700@nnacdst.org
SUMMARY:NNAC Candidates Forum
DESCRIPTION:Ensure you are an informed voter for local elections! NNAC will host a Candidates Forum featuring all confirmed candidates for Treasurer and Sheriff. \n• What: Candidates Forum\n• When: Tuesday\, October 21\, 2025\, from 6:00 PM – 8:15 PM\n• Where: Zion Baptist Church\, 633 20th Street\, Newport News\, VA
URL:https://nnacdst.org/event/nnac-candidates-forum/
ATTACH;FMTTYPE=image/jpeg:https://nnacdst.org/wp-content/uploads/2025/10/IMG_6353.jpg
END:VEVENT
BEGIN:VEVENT
DTSTART;TZID=America/New_York:20251104T060000
DTEND;TZID=America/New_York:20251104T190000
DTSTAMP:20260424T124236
CREATED:20251101T180219Z
LAST-MODIFIED:20251101T180219Z
UID:9422-1762236000-1762282800@nnacdst.org
SUMMARY:Election Day
DESCRIPTION:Election Day is approaching! We must be prepared to exercise our power.\n Your 4-Step Virginia Voter Checklist: \n\n Check Your Status: Do you know your polling place? Is your registration active?\n  Same Day Registration: Remember\, Virginia offers Same Day Voter Registration (SDR)! If you miss the regular deadline\, you can still register in person at your polling place and vote a provisional ballot on Election Day.\n  Find Your Info: Scan the QR Code or visit the link below to immediately:\n\n Locate your official polling place.\nCheck your voter registration status.\n\n\n  Create Your Plan: Commit to voting on ELECTION DAY\, 11.4.25! Know when and where you will cast your ballot.\n\nYour Voice is Your Power. Your Power is Your Vote. Exercise Your Power and VOTE!\n GET STARTED NOW:\nVirginia Voter Portal: https://vote.elections.virginia.gov/VoterInformation \nOr scan the QR CODE\n#NNACVotes #DeltaVotes #DST1913 #VirginiaVotes #SameDayRegistration #Vote11425
URL:https://nnacdst.org/event/election-day/
ATTACH;FMTTYPE=image/png:https://nnacdst.org/wp-content/uploads/2025/11/we-Voted.png
END:VEVENT
BEGIN:VEVENT
DTSTART;TZID=America/New_York:20251112T184500
DTEND;TZID=America/New_York:20251112T184500
DTSTAMP:20260424T124236
CREATED:20251031T024759Z
LAST-MODIFIED:20251031T024759Z
UID:9415-1762973100-1762973100@nnacdst.org
SUMMARY:Inaugural Delta Day at the Newport News City Hall
DESCRIPTION:The members of Newport News Alumnae Chapter of Delta Sigma Theta Sorority\, Inc. invite residents of the City of Newport News to join us as we host our inaugural Delta Day at City Hall. Together\, we will learn about what is happening in the City and hear from our City Council. \nThe event will be held on November 12\, 2025\, at City Hall Chambers\, 2400 Washington Avenue\, Newport News\, VA 23607. \nWe ask that you arrive at 6:45 PM. \nWe invite you to register by scanning the QR Code on the flyer. \nPlease text 757-816-4478 with any questions.
URL:https://nnacdst.org/event/inaugural-delta-day-at-the-newport-news-city-hall/
LOCATION:City Hall Chambers\, 2400 Washington Ave.\, Newport News\, Virginia\, 23607
ATTACH;FMTTYPE=image/png:https://nnacdst.org/wp-content/uploads/2025/10/IMG_6505.png
END:VEVENT
BEGIN:VEVENT
DTSTART;TZID=America/New_York:20260307T100000
DTEND;TZID=America/New_York:20260307T140000
DTSTAMP:20260424T124236
CREATED:20260203T141137Z
LAST-MODIFIED:20260203T144459Z
UID:9433-1772877600-1772892000@nnacdst.org
SUMMARY:Delta Love Affair Fitness Event
DESCRIPTION:Get ready for a heart-pumping\, sweat-inducing fitness extravaganza at the “Delta Fitness Love Affair” on March 7\, 2026\, at 10:00 AM! \nGet ready to sweat and have a blast! Join us on Saturday\, March 7\, 2026\, at Sixth Mount Zion Baptist Temple- STREAM Center 1705 Aspenwood Dr\, Hampton\, VA 23666 for an incredible day of fitness and fun. \nWhether you’re a fitness enthusiast or just starting your fitness journey\, this event has something for everyone. We’ve got it all covered. \nOur expert instructors will lead you through a variety of high-energy\, slow-paced\, Zumba-themed workouts. You’ll be able to have fun\, get fit\, and discover the joy of movement. \nBut it’s not just about the workouts! The Delta Fitness Love Affair is also a great opportunity to connect with like-minded individuals who share your passion for fitness. You’ll have the chance to meet fellow fitness enthusiasts\, make new friends\, and build a supportive community while giving back to the community as well. The Delta Fitness Love Affair is an annual fundraiser that supports our ability to award college scholarships for Newport News high school graduating seniors and to help fund chapter programs. A portion of the proceeds will also be donated to the American Heart Association. \nSo mark your calendars and get ready for a day filled with sweat\, laughter\, and love for fitness. Don’t miss out on the Delta Fitness Love Affair – it’s an event you won’t want to miss!
URL:https://nnacdst.org/event/delta-love-affair-fitness-event/
LOCATION:Sixth Mount Zion Stream Center\, 3100 Butternut Drive\, Hampton\, VA\, 23666\, United States
ATTACH;FMTTYPE=image/jpeg:https://nnacdst.org/wp-content/uploads/2026/02/DFA.jpg
END:VEVENT
BEGIN:VEVENT
DTSTART;TZID=America/New_York:20260326T190000
DTEND;TZID=America/New_York:20260326T190000
DTSTAMP:20260424T124236
CREATED:20260316T004937Z
LAST-MODIFIED:20260319T023402Z
UID:9465-1774551600-1774551600@nnacdst.org
SUMMARY:Beyond the Ballot
DESCRIPTION:Take your civic power Beyond the Ballot! The Newport News Alumnae Chapter of Delta Sigma Theta Sorority\, Inc. invites you to the kickoff of our premier monthly series\, designed to bridge the gap between city government and the community. \nJoin us for a moderated Q&A with Angela F. Reason\, Clerk of the Circuit Court\, to demystify essential legal functions and empower yourself with the tools for informed citizenship. Don’t miss this vital connection between the sanctuary and the street \nClick the link or scan the QR code on the flyer now to register and receive the Zoom link!
URL:https://nnacdst.org/event/beyond-the-ballot/
ATTACH;FMTTYPE=image/jpeg:https://nnacdst.org/wp-content/uploads/2026/03/BTB2.jpg
END:VEVENT
BEGIN:VEVENT
DTSTART;TZID=America/New_York:20260423T190000
DTEND;TZID=America/New_York:20260423T190000
DTSTAMP:20260424T124236
CREATED:20260413T225544Z
LAST-MODIFIED:20260413T225751Z
UID:9480-1776970800-1776970800@nnacdst.org
SUMMARY:Beyond the Ballot: 4/23
DESCRIPTION:Democracy isn’t just a vote—it’s a conversation.  \nJoin the Newport News Alumnae Chapter of Delta Sigma Theta Sorority\, Inc. and Zion Baptist Church for our second Beyond the Ballot session. We are honored to feature the Honorable Sheriff Gabe Morgan for an evening dedicated to demystifying the role of the Sheriff’s Office in our daily lives. \nFrom mental health advocacy and re-entry programs to the safety of our seniors\, come hear how Sheriff Morgan is working to make Newport News a safer\, more equitable place for every resident from the Southeast to Denbigh. \n Where: Zion Baptist Church (Sanctuary)\n When: Thursday\, April 23rd\n Time: 7:00 p.m.\n Live Stream: Streaming on Facebook Live for those joining from home! \nDon’t just cast a ballot—stay engaged. We’ll see you there! 
URL:https://nnacdst.org/event/beyond-the-ballot-2/
LOCATION:Zion Baptist Church\, 633 20th St\, Newport News\, VA\, 23607\, United States
ATTACH;FMTTYPE=image/png:https://nnacdst.org/wp-content/uploads/2026/04/BTB.png
END:VEVENT
BEGIN:VEVENT
DTSTART;VALUE=DATE:20260425
DTEND;VALUE=DATE:20260426
DTSTAMP:20260424T124236
CREATED:20260420T193830Z
LAST-MODIFIED:20260420T193830Z
UID:9493-1777075200-1777161599@nnacdst.org
SUMMARY:Greek Celebration 50/50 raffle ticket
DESCRIPTION:It’s that time of the year!!! Purchase your 50/50 raffle ticket and support our scholarship fund!!!! 1 for $5\, 3 for $10 and 6 for $20!! The winner will be announced at our Greek Celebration on April 25th!! You do not have to be present to win!!
URL:https://nnacdst.org/event/greek-celebration-50-50-raffle-ticket/
ATTACH;FMTTYPE=image/jpeg:https://nnacdst.org/wp-content/uploads/2026/04/50-50.jpg
END:VEVENT
BEGIN:VEVENT
DTSTART;TZID=America/New_York:20260425T160000
DTEND;TZID=America/New_York:20260425T210000
DTSTAMP:20260424T124236
CREATED:20260117T184319Z
LAST-MODIFIED:20260117T184601Z
UID:9429-1777132800-1777150800@nnacdst.org
SUMMARY:2026 Greek Celebration: School Daze Edition
DESCRIPTION:We are excited to announce the return of our long-standing major chapter fundraiser on April 25\, 2026. \n2026 Greek Celebration: School Daze Edition \nGet ready for the ultimate Greek Celebration\, School Daze Edition at the Hampton University Convocation Center on Saturday\, April 25\, 2026\, starting at 4:00 PM. \nThe Newport News Alumnae Chapter (NNAC) of Delta Sigma Theta Sorority\, Incorporated\, is excited to announce the return of our chapter’s major fundraising event for scholarships and local charities. For 89 years\, NNAC has given thousands of dollars back to the community through scholarships and local charities. Your support of this event will help us to continue our rich tradition of our service to the community. \nRepresent your favorite college or university! Join us for a step show featuring local D9 chapters as well as a night of music\, dancing\, and fun! Don’t miss out on this epic party—see you there! \n\nSaturday\, April 25\, 2026\nTime: 4:00 PM to 9:00 PM\nLocation: Hampton University Convocation Center\n\nWe do suspect that this highly supported event will sell out fast! Vendor and sponsorship opportunities are also available. Please email fundraising.nnacdst@gmail.com for more information. \nDelta Sigma Theta Sorority\, Inc. does not provide nor distribute alcoholic beverages. The chapter\, members\, and guests must comply with all federal\, state\, provincial\, and local laws. NO person under the legal drinking age may possess\, consume\, provide\, sell\, or be provided alcoholic beverages.
URL:https://nnacdst.org/event/2026-greek-celebration-school-daze-edition/
LOCATION:Hampton University Convocation Center\, 700 Emancipation Dr\, Hampton\, VA\, 23668\, United States
ATTACH;FMTTYPE=image/png:https://nnacdst.org/wp-content/uploads/2026/01/GC_flyer_2026.png
END:VEVENT
BEGIN:VEVENT
DTSTART;TZID=America/New_York:20260517T130000
DTEND;TZID=America/New_York:20260517T160000
DTSTAMP:20260424T124236
CREATED:20260420T185123Z
LAST-MODIFIED:20260420T185524Z
UID:9486-1779022800-1779033600@nnacdst.org
SUMMARY:May Week 2026
DESCRIPTION:Join the Newport News Alumnae Chapter for our May Week 2026 Worship Service and Luncheon! Start the day with a meaningful worship service at 10:00 AM at Sixth Mount Baptist Bethel Temple\, followed by a delightful luncheon at 1:00 PM. Come celebrate with us as we gather for One Mission\, Students. Anchored in Scholarship. Serving with Intention. We look forward to celebrating this day with you.
URL:https://nnacdst.org/event/may-week-2026/
LOCATION:Sixth Mount Zion Baptist Temple\, 3100 Butternut Dr\, Hampton\, VA\, 23666\, United States
ATTACH;FMTTYPE=image/png:https://nnacdst.org/wp-content/uploads/2026/04/MW.png
END:VEVENT
END:VCALENDAR