BEGIN:VCALENDAR
VERSION:2.0
PRODID:-//Newport News Alumnae Chapter - ECPv6.15.20//NONSGML v1.0//EN
CALSCALE:GREGORIAN
METHOD:PUBLISH
X-WR-CALNAME:Newport News Alumnae Chapter
X-ORIGINAL-URL:https://nnacdst.org
X-WR-CALDESC:Events for Newport News Alumnae Chapter
REFRESH-INTERVAL;VALUE=DURATION:PT1H
X-Robots-Tag:noindex
X-PUBLISHED-TTL:PT1H
BEGIN:VTIMEZONE
TZID:America/New_York
BEGIN:DAYLIGHT
TZOFFSETFROM:-0500
TZOFFSETTO:-0400
TZNAME:EDT
DTSTART:20210314T070000
END:DAYLIGHT
BEGIN:STANDARD
TZOFFSETFROM:-0400
TZOFFSETTO:-0500
TZNAME:EST
DTSTART:20211107T060000
END:STANDARD
BEGIN:DAYLIGHT
TZOFFSETFROM:-0500
TZOFFSETTO:-0400
TZNAME:EDT
DTSTART:20220313T070000
END:DAYLIGHT
BEGIN:STANDARD
TZOFFSETFROM:-0400
TZOFFSETTO:-0500
TZNAME:EST
DTSTART:20221106T060000
END:STANDARD
BEGIN:DAYLIGHT
TZOFFSETFROM:-0500
TZOFFSETTO:-0400
TZNAME:EDT
DTSTART:20230312T070000
END:DAYLIGHT
BEGIN:STANDARD
TZOFFSETFROM:-0400
TZOFFSETTO:-0500
TZNAME:EST
DTSTART:20231105T060000
END:STANDARD
BEGIN:DAYLIGHT
TZOFFSETFROM:-0500
TZOFFSETTO:-0400
TZNAME:EDT
DTSTART:20240310T070000
END:DAYLIGHT
BEGIN:STANDARD
TZOFFSETFROM:-0400
TZOFFSETTO:-0500
TZNAME:EST
DTSTART:20241103T060000
END:STANDARD
BEGIN:DAYLIGHT
TZOFFSETFROM:-0500
TZOFFSETTO:-0400
TZNAME:EDT
DTSTART:20250309T070000
END:DAYLIGHT
BEGIN:STANDARD
TZOFFSETFROM:-0400
TZOFFSETTO:-0500
TZNAME:EST
DTSTART:20251102T060000
END:STANDARD
BEGIN:DAYLIGHT
TZOFFSETFROM:-0500
TZOFFSETTO:-0400
TZNAME:EDT
DTSTART:20260308T070000
END:DAYLIGHT
BEGIN:STANDARD
TZOFFSETFROM:-0400
TZOFFSETTO:-0500
TZNAME:EST
DTSTART:20261101T060000
END:STANDARD
END:VTIMEZONE
BEGIN:VEVENT
DTSTART;TZID=America/New_York:20251112T184500
DTEND;TZID=America/New_York:20251112T184500
DTSTAMP:20260423T190255
CREATED:20251031T024759Z
LAST-MODIFIED:20251031T024759Z
UID:9415-1762973100-1762973100@nnacdst.org
SUMMARY:Inaugural Delta Day at the Newport News City Hall
DESCRIPTION:The members of Newport News Alumnae Chapter of Delta Sigma Theta Sorority\, Inc. invite residents of the City of Newport News to join us as we host our inaugural Delta Day at City Hall. Together\, we will learn about what is happening in the City and hear from our City Council. \nThe event will be held on November 12\, 2025\, at City Hall Chambers\, 2400 Washington Avenue\, Newport News\, VA 23607. \nWe ask that you arrive at 6:45 PM. \nWe invite you to register by scanning the QR Code on the flyer. \nPlease text 757-816-4478 with any questions.
URL:https://nnacdst.org/event/inaugural-delta-day-at-the-newport-news-city-hall/
LOCATION:City Hall Chambers\, 2400 Washington Ave.\, Newport News\, Virginia\, 23607
ATTACH;FMTTYPE=image/png:https://nnacdst.org/wp-content/uploads/2025/10/IMG_6505.png
END:VEVENT
BEGIN:VEVENT
DTSTART;TZID=America/New_York:20251104T060000
DTEND;TZID=America/New_York:20251104T190000
DTSTAMP:20260423T190255
CREATED:20251101T180219Z
LAST-MODIFIED:20251101T180219Z
UID:9422-1762236000-1762282800@nnacdst.org
SUMMARY:Election Day
DESCRIPTION:Election Day is approaching! We must be prepared to exercise our power.\n Your 4-Step Virginia Voter Checklist: \n\n Check Your Status: Do you know your polling place? Is your registration active?\n  Same Day Registration: Remember\, Virginia offers Same Day Voter Registration (SDR)! If you miss the regular deadline\, you can still register in person at your polling place and vote a provisional ballot on Election Day.\n  Find Your Info: Scan the QR Code or visit the link below to immediately:\n\n Locate your official polling place.\nCheck your voter registration status.\n\n\n  Create Your Plan: Commit to voting on ELECTION DAY\, 11.4.25! Know when and where you will cast your ballot.\n\nYour Voice is Your Power. Your Power is Your Vote. Exercise Your Power and VOTE!\n GET STARTED NOW:\nVirginia Voter Portal: https://vote.elections.virginia.gov/VoterInformation \nOr scan the QR CODE\n#NNACVotes #DeltaVotes #DST1913 #VirginiaVotes #SameDayRegistration #Vote11425
URL:https://nnacdst.org/event/election-day/
ATTACH;FMTTYPE=image/png:https://nnacdst.org/wp-content/uploads/2025/11/we-Voted.png
END:VEVENT
BEGIN:VEVENT
DTSTART;TZID=America/New_York:20251021T180000
DTEND;TZID=America/New_York:20251021T201500
DTSTAMP:20260423T190255
CREATED:20251013T181605Z
LAST-MODIFIED:20251013T182830Z
UID:9408-1761069600-1761077700@nnacdst.org
SUMMARY:NNAC Candidates Forum
DESCRIPTION:Ensure you are an informed voter for local elections! NNAC will host a Candidates Forum featuring all confirmed candidates for Treasurer and Sheriff. \n• What: Candidates Forum\n• When: Tuesday\, October 21\, 2025\, from 6:00 PM – 8:15 PM\n• Where: Zion Baptist Church\, 633 20th Street\, Newport News\, VA
URL:https://nnacdst.org/event/nnac-candidates-forum/
ATTACH;FMTTYPE=image/jpeg:https://nnacdst.org/wp-content/uploads/2025/10/IMG_6353.jpg
END:VEVENT
BEGIN:VEVENT
DTSTART;TZID=America/New_York:20251009T190000
DTEND;TZID=America/New_York:20251009T190000
DTSTAMP:20260423T190255
CREATED:20251007T192741Z
LAST-MODIFIED:20251007T192923Z
UID:9326-1760036400-1760036400@nnacdst.org
SUMMARY:Virginia November Election: Gubernatorial Debate
DESCRIPTION:Virginia Social Action – Delta Sigma Theta Sorority\, Inc. is proud to serve as the community partner in a historic collaboration with Norfolk State University and Nexstar Media Group for a landmark gubernatorial debate featuring Lieutenant Governor Winsome Earle-Sears and former Congresswoman Abigail Spanberger. \nThis is the first time Norfolk State University has partnered with a Divine Nine organization to host a debate of this scale. The event\, deeply rooted in the shared values of higher education\, civic education\, and civic engagement\, will take place on Thursday\, October 9\, 2025\, at 7:00 PM at the L. Douglas Wilder Performing Arts Center on the Norfolk State campus. As the only gubernatorial debate scheduled between these candidates for the 2025 election cycle\, it is expected to reach over 4 million households through Nexstar Media Group’s broadcast network. \nClosed to the Public\, but please watch via one of the streaming sources!  The Virginia Gubernatorial Debate Partner Stations: Where to Watch: \n WAVY-TV\n* Network: NBC\n* Market: Norfolk\, VA\n* Station Website: wavy.com\n* Social Media: @WAVY_news \n WRIC-TV\n* Network\n* Market: Richmond\, VA\n* Station Website: wric.com\n* Social Media: @8News \n WFXR-TV\n* Network: FOX\n* Market: Roanoke\, VA\n* Station Website: WFXRtv.com\n* Social Media: @WFXRnews \n WDCW-TV\n* Network: CW\n* Market: Washington\, D.C.\n* Station Website: dcnewsnow.com\n* Social Media: @DCNewsNow \n WDVM-TV\n* Network: Independent (IND)\n* Market: Washington\, D.C.\n* Station Website: dcnewsnow.com\n* Social Media: @DCNewsNow \n WJHL-TV\n* Network: CBS\n* Market: Tri-Cities\, TN\n* Station Website: wjhl.com\n* Social Media: @wjhl11 \n EJHL-TV\n* Network: ABC\n* Market: Tri-Cities\, TN\n* Station Website: wjhl.com\n* Social Media: @wjhl11
URL:https://nnacdst.org/event/virginia-november-election-gubernatorial-debate/
ATTACH;FMTTYPE=image/png:https://nnacdst.org/wp-content/uploads/2025/10/Debate.png
END:VEVENT
BEGIN:VEVENT
DTSTART;TZID=America/New_York:20250928T143000
DTEND;TZID=America/New_York:20250928T173000
DTSTAMP:20260423T190255
CREATED:20250619T192436Z
LAST-MODIFIED:20250619T192558Z
UID:9302-1759069800-1759080600@nnacdst.org
SUMMARY:An Afternoon of the Arts
DESCRIPTION:Join us for an exciting Afternoon of the Arts filled with amazing talent on September 28th at 2:30 PM! Please scan the QR code or click the link below to get your tickets!
URL:https://nnacdst.org/event/an-afternoon-of-the-arts-2/
LOCATION:Newport News Marriott at City Center\, 740 Town Center Drive\, Newport News\, VA\, 23606\, United States
ATTACH;FMTTYPE=image/jpeg:https://nnacdst.org/wp-content/uploads/2025/06/Afternoon-of-the-Arts.jpg
END:VEVENT
BEGIN:VEVENT
DTSTART;VALUE=DATE:20250919
DTEND;VALUE=DATE:20250920
DTSTAMP:20260423T190255
CREATED:20250919T172902Z
LAST-MODIFIED:20250919T172902Z
UID:9320-1758240000-1758326399@nnacdst.org
SUMMARY:Your Voice. Your Power. Your Vote: 2025 Dates to Know
DESCRIPTION: The moment you’ve waited for is here: VOTE 2025 is coming in hot! Make every moment count by staying informed and showing up. Your voice shapes the future. \nRegister to vote and check your voter registration status by clicking on this link.\nhttps://www.elections.virginia.gov/registration/ \nIf you have been impacted by the justice system\, click this link to check if your rights have been restored. \nhttps://www.restore.virginia. #ProtectYourVoice #VoteCommunity gov/
URL:https://nnacdst.org/event/your-voice-your-power-your-vote-2025-dates-to-know/
ATTACH;FMTTYPE=image/jpeg:https://nnacdst.org/wp-content/uploads/2025/09/IMG_6207.jpeg
END:VEVENT
BEGIN:VEVENT
DTSTART;TZID=America/New_York:20250701T183000
DTEND;TZID=America/New_York:20250701T193000
DTSTAMP:20260423T190255
CREATED:20250316T015545Z
LAST-MODIFIED:20250617T151822Z
UID:9064-1751394600-1751398200@nnacdst.org
SUMMARY:New Laws Awareness Event
DESCRIPTION:Join the Newport News Alumnae Chapter of Delta Sigma Theta Sorority\, Inc. for our annual New Laws Forum! We are excited to welcome special guests Senator Maime Locke and Delegate Marcia “Cia” Price to discuss recent legislation across key areas: Voting & Civic Engagement\, Reproductive Justice\, Education\, Environmental Justice\, and Health Equity. \nCheck out the flyer or see below for registration details and learn how you can attend via Zoom. We look forward to your participation! \nWhen: Jul 1\, 2025 06:30 PM Eastern Time (US and Canada) \nRegister in advance for this meeting:\nhttps://zoom.us/meeting/register/Ob4lOUr_T2G9Yawn7SRk4g\n\nAfter registering\, you will receive a confirmation email containing information about joining the meeting.
URL:https://nnacdst.org/event/new-laws-awareness-event/
ATTACH;FMTTYPE=image/jpeg:https://nnacdst.org/wp-content/uploads/2025/03/IMG_5734.jpeg
END:VEVENT
BEGIN:VEVENT
DTSTART;TZID=America/New_York:20250518T140000
DTEND;TZID=America/New_York:20250518T163000
DTSTAMP:20260423T190255
CREATED:20250303T154110Z
LAST-MODIFIED:20250303T154110Z
UID:8965-1747576800-1747585800@nnacdst.org
SUMMARY:May Week Celebration Luncheon 2025
DESCRIPTION:We are also pleased to honor our 2025 scholarship recipients and top achievers from Newport News Public City Schools. Come join us for a festive afternoon filled with delicious food\, great company\, and exciting activities! This in-person\, public event is the perfect way to celebrate the spring season as we recognize high academic achievements by awarding educational scholarships totaling more than $20\,000. \nThe Newport News Alumnae Chapter of Delta Sigma Theta Sorority\, Inc.\, cordially invites you to join us at our Annual May Week Luncheon. This day is dedicated to recognizing and awarding deserving Newport News High School graduating seniors with scholarship awards that allow them to continue their education at a four-year college. Each ticket is only $60. Let’s show up and show out to support and motivate our youth. \nDon’t miss out on this opportunity to enjoy a special luncheon in a beautiful setting for a worthy cause. We can’t wait to see you there!
URL:https://nnacdst.org/event/may-week-celebration-luncheon-2025/
LOCATION:Sixth Mount Zion Stream Center\, 3100 Butternut Drive\, Hampton\, VA\, 23666\, United States
ATTACH;FMTTYPE=image/png:https://nnacdst.org/wp-content/uploads/2025/03/2025-May-Week-QR-Code-e1741016443783.png
END:VEVENT
BEGIN:VEVENT
DTSTART;TZID=America/New_York:20250426T160000
DTEND;TZID=America/New_York:20250426T210000
DTSTAMP:20260423T190255
CREATED:20250112T231452Z
LAST-MODIFIED:20250312T171117Z
UID:8827-1745683200-1745701200@nnacdst.org
SUMMARY:Greek Celebration - RED Hot Rodeo
DESCRIPTION:Get ready for the ultimate Greek Celebration\, Rodeo Style at the Hampton University Convocation Center on Saturday April 26\, 2025 starting at 4:00 PM. \nThe Newport News Alumnae Chapter (NNAC) of Delta Sigma Theta Sorority\, Incorporated is excited to announce the return of our chapter’s major fundraising event for scholarships and local charities. For 88 years\, NNAC has given thousands of dollars back to the community through scholarships and local charities. Your support of this event will help us to continue our rich tradition of our service to the community. \nGet your crew together to party rodeo style at the 2025 Greek Celebration hosted by NNAC on Saturday April 26\, 2025 at the Hampton University Convocation Center. Wear your best Western attire! Join us for a step show featuring local D9 chapters as well as a night of music\, dancing\, and fun!! Don’t miss out on this epic party—see you there!
URL:https://nnacdst.org/event/greek-celebration/
LOCATION:Hampton University Convocation Center\, 700 Emancipation Dr\, Hampton\, VA\, 23668\, United States
ATTACH;FMTTYPE=image/jpeg:https://nnacdst.org/wp-content/uploads/2025/03/IMG_9511.jpeg
END:VEVENT
BEGIN:VEVENT
DTSTART;TZID=America/New_York:20250422T180000
DTEND;TZID=America/New_York:20250422T180000
DTSTAMP:20260423T190255
CREATED:20250408T135815Z
LAST-MODIFIED:20250419T000645Z
UID:9212-1745344800-1745344800@nnacdst.org
SUMMARY:What is Ranked Choice Voting
DESCRIPTION:Join us on April 22\, 2025\, at 6:00 p.m. at the Main Street Library as the Newport News Alumnae and Hampton Alumnae chapters of Delta Sigma Theta Sorority\, Inc. host UPVote and present an exciting information session on Rank Choice Voting. \nDiscover what ranked choice voting is all about and get your questions answered. \nScan the QR code or click here to register for this exciting information session on Rank Choice Voting.
URL:https://nnacdst.org/event/what-is-ranked-choice-voting/
LOCATION:Main Street Library\, 110 Main Street\, Newport News\, VA\, 23601\, United States
ATTACH;FMTTYPE=image/png:https://nnacdst.org/wp-content/uploads/2025/04/What-is-Ranked-Choice-Voting-Flyer-1.png
END:VEVENT
BEGIN:VEVENT
DTSTART;TZID=America/New_York:20250315T110000
DTEND;TZID=America/New_York:20250315T140000
DTSTAMP:20260423T190255
CREATED:20250312T194037Z
LAST-MODIFIED:20250312T194037Z
UID:9060-1742036400-1742047200@nnacdst.org
SUMMARY:Black Wellness Expo
DESCRIPTION:Please join NNAC at the Black Wellness Expo at the Downing-Gross Cultural Arts Center on Saturday\, March 15\, 2025.
URL:https://nnacdst.org/event/black-wellness-expo/
LOCATION:Downing-Gross Cultural Arts Center\, 2410 Wickham Ave\, Newport News\, VA\, 23607\, United States
ATTACH;FMTTYPE=image/jpeg:https://nnacdst.org/wp-content/uploads/2025/03/Black-Wellness-Expo.jpg
END:VEVENT
BEGIN:VEVENT
DTSTART;TZID=America/New_York:20250301T110000
DTEND;TZID=America/New_York:20250301T130000
DTSTAMP:20260423T190255
CREATED:20250122T170312Z
LAST-MODIFIED:20250122T170312Z
UID:8921-1740826800-1740834000@nnacdst.org
SUMMARY:Delta Fitness Love Affair Fundraiser
DESCRIPTION:Get ready to sweat and have a blast at the Delta Fitness Love Affair! Join us on Saturday\, March 1\, 2025 at Sixth Mount Zion Baptist Temple- STREAM Center 1705 Aspenwood Dr\, Hampton\, VA 23666 for an incredible day of fitness and fun. \nWhether you’re a fitness enthusiast or just starting your fitness journey\, this event has something for everyone. We’ve got it all covered. \nOur expert instructors will lead you through a variety of high-energy\, slow-paced\, Zumba-themed workouts. You’ll be able to have fun\, get fit\, and discover the joy of movement. \nBut it’s not just about the workouts! The Delta Fitness Love Affair is also a great opportunity to connect with like-minded individuals who share your passion for fitness. You’ll have the chance to meet fellow fitness enthusiasts\, make new friends\, and build a supportive community while giving back to the community as well. The Delta Fitness Love Affair is an annual fundraiser that supports our ability to award college scholarships for Newport News high school graduating seniors and to help fund chapter programs. A portion of the proceeds will also be donated to the American Heart Association. \nSo mark your calendars and get ready for a day filled with sweat\, laughter\, and love for fitness. Don’t miss out on the Delta Fitness Love Affair – it’s an event you won’t want to miss!
URL:https://nnacdst.org/event/delta-fitness-love-affair-fundraiser-2/
LOCATION:Sixth Mount Zion Stream Center\, 3100 Butternut Drive\, Hampton\, VA\, 23666\, United States
ATTACH;FMTTYPE=image/jpeg:https://nnacdst.org/wp-content/uploads/2025/01/Red-and-Grey-Love-Abstract-Valentines-Day-Sale-flyer.jpeg
END:VEVENT
BEGIN:VEVENT
DTSTART;VALUE=DATE:20241021
DTEND;VALUE=DATE:20241022
DTSTAMP:20260423T190255
CREATED:20250117T035854Z
LAST-MODIFIED:20250117T035854Z
UID:8871-1729468800-1729555199@nnacdst.org
SUMMARY:E.M.B.O.D.I
DESCRIPTION:E.M.B.O.D.I is accepting applications for this year’s program. All high school males ages 13-17 are encouraged to apply! \nEmail embodi.nnacdst@gmail.com or scan the QR Code.
URL:https://nnacdst.org/event/e-m-b-o-d-i/
ATTACH;FMTTYPE=image/png:https://nnacdst.org/wp-content/uploads/2025/01/E.M.B.O.D.I.png
END:VEVENT
BEGIN:VEVENT
DTSTART;TZID=America/New_York:20241013T123000
DTEND;TZID=America/New_York:20241013T133000
DTSTAMP:20260423T190255
CREATED:20250117T040331Z
LAST-MODIFIED:20250117T040357Z
UID:8873-1728822600-1728826200@nnacdst.org
SUMMARY:Souls to the Polls: Make Your Voice Heard!
DESCRIPTION:Souls to the Polls: Make Your Voice Heard! \nJoin the members of NNAC of Delta Sigma Theta Sorority\, Inc as we Stroll to the polls to have our voices heard and ensure every voice is counted!! \n10/13/2024\n12:30 PM\n1st Baptist Church\n229 North King Street Hampton VA \nLet’s come together to honor our history and shape our future. Bring your sorority sisters\, fraternity brothers\, Mason family\, family\, friends\, and neighbors—let’s make a powerful impact! \n#SoulstothePolls \nEvery vote matters. Every voice counts. Let’s do this!
URL:https://nnacdst.org/event/souls-to-the-polls-make-your-voice-heard/
LOCATION:1st Baptist Church\, 229 North King Street\, Hampton\, VA\, 23669\, United States
ATTACH;FMTTYPE=image/jpeg:https://nnacdst.org/wp-content/uploads/2025/01/Souls-to-the-Polls.jpeg
END:VEVENT
BEGIN:VEVENT
DTSTART;TZID=America/New_York:20240926T180000
DTEND;TZID=America/New_York:20240926T201500
DTSTAMP:20260423T190255
CREATED:20250117T040745Z
LAST-MODIFIED:20250117T040745Z
UID:8876-1727373600-1727381700@nnacdst.org
SUMMARY:Newport News City Wide Candidates Forum
DESCRIPTION:The Newport News Branch of NAACP and the Newport News Alumnae Chapter of Delta Sigma Theta partnered to present the Newport News City Wide Candidates Forum which will be held on 9-26-24 from 6 – 8:15 pm at: \nNew Beech Grove Baptist Church \n361 Beechmont Dr NN VA 23608. \nDetails are on the flyer. \n#NewportNewsStrong\n#CandidatesForum\n#NewportNewsCityWide\n#NNAC\n#NNNAACP
URL:https://nnacdst.org/event/newport-news-city-wide-candidates-forum/
LOCATION:New Beech Grove Baptist Church\, 361 Beechmont Drive\, Newport News\, VA\, 23608\, United States
ATTACH;FMTTYPE=image/png:https://nnacdst.org/wp-content/uploads/2025/01/92624candiatesforum-.png
END:VEVENT
BEGIN:VEVENT
DTSTART;TZID=America/New_York:20240915T143000
DTEND;TZID=America/New_York:20240915T173000
DTSTAMP:20260423T190255
CREATED:20250117T041401Z
LAST-MODIFIED:20250117T041401Z
UID:8879-1726410600-1726421400@nnacdst.org
SUMMARY:An Afternoon of the Arts
DESCRIPTION:Join us for an unforgettable afternoon filled with amazing talent at our event\, “An Afternoon of the Arts!” Get ready to be captivated by the creativity and skill of talented artists\, musicians\, and performers. \nDate: \nSunday\, September 15\, 2024 \nTime: \n2:30 PM-5:30 PM \nLocation: \nNewport News Marriott at City Center 740 Town Center Drive\, Newport News\, VA 23606 \nThis event promises to be a celebration of various art forms\, showcasing the **talent** and passion of local artists. From live music performances to captivating art exhibitions\, there will be something for everyone to enjoy. Come and immerse yourself in the vibrant atmosphere\, surrounded by creativity and inspiration. Whether you are an art enthusiast or simply looking for an enjoyable afternoon\, this event is not to be missed.
URL:https://nnacdst.org/event/an-afternoon-of-the-arts/
LOCATION:Newport News Marriott at City Center\, 740 Town Center Drive\, Newport News\, VA\, 23606\, United States
ATTACH;FMTTYPE=image/png:https://nnacdst.org/wp-content/uploads/2024/09/2024-05-17-22_54_48-Eventbrite-Edit-Save-the-Date_-An-Afternoon-of-the-Arts_-and-4-more-pages-Pe.png
END:VEVENT
BEGIN:VEVENT
DTSTART;TZID=America/New_York:20240702T183000
DTEND;TZID=America/New_York:20240702T193000
DTSTAMP:20260423T190255
CREATED:20250117T041719Z
LAST-MODIFIED:20250117T041719Z
UID:8882-1719945000-1719948600@nnacdst.org
SUMMARY:New Laws Forum
DESCRIPTION:If you missed the live session\, watch on demand!
URL:https://nnacdst.org/event/new-laws-forum/
ATTACH;FMTTYPE=image/jpeg:https://nnacdst.org/wp-content/uploads/2024/07/449777827_865509335609512_1224037983435055744_n.jpg
END:VEVENT
BEGIN:VEVENT
DTSTART;TZID=America/New_York:20240224T100000
DTEND;TZID=America/New_York:20240224T130000
DTSTAMP:20260423T190255
CREATED:20250117T041953Z
LAST-MODIFIED:20250117T044211Z
UID:8884-1708768800-1708779600@nnacdst.org
SUMMARY:Delta Fitness Love Affair
DESCRIPTION:
URL:https://nnacdst.org/event/delta-fitness-love-affair/
LOCATION:Warwick High School\, 51 Copeland Lane\, Newport News\, VA\, 23601\, United States
ATTACH;FMTTYPE=image/jpeg:https://nnacdst.org/wp-content/uploads/2024/01/Delta-Fitness-Love-Affair-2024.jpg
END:VEVENT
BEGIN:VEVENT
DTSTART;TZID=America/New_York:20231112T140000
DTEND;TZID=America/New_York:20231112T150000
DTSTAMP:20260423T190255
CREATED:20250117T042235Z
LAST-MODIFIED:20250117T044735Z
UID:8887-1699797600-1699801200@nnacdst.org
SUMMARY:Grow with Google: Digital Skills for Everyday Tasks - Google Docs & Slides Workshop
DESCRIPTION:Please join Newport News Alumnae Chapter as we present a Grow with Google: Digital Skills for Everyday Tasks – Google Docs & Slides Workshop on Sunday\, November 12\, 2023 at 2:00PM ET. \nLearn how to manage work and life tasks more effectively using Google tools. Whether you want to create a meeting agenda or presentation\, these best practices will boost your productivity. \nThis workshop is FREE and OPEN TO THE PUBLIC! So make sure to register below and invite a friend! Once you register\, you will receive a confirmation email containing information about attending the meeting. \nLOCATION: Main Street Library\nMain Street Meeting Room\n110 Main Street\nNewport News\, VA 23601 \nREGISTER: https://bit.ly/46RPTDb \nWe look forward to seeing you there! \nNNAC Grow with Google Committee
URL:https://nnacdst.org/event/grow-with-google-digital-skills-for-everyday-tasks-google-docs-slides-workshop/
LOCATION:Main Street Library\, 110 Main Street\, Newport News\, VA\, 23601\, United States
ATTACH;FMTTYPE=image/png:https://nnacdst.org/wp-content/uploads/2023/10/GwG_NNAC_Flyer_11122023.png
END:VEVENT
BEGIN:VEVENT
DTSTART;TZID=America/New_York:20230917T143000
DTEND;TZID=America/New_York:20230917T173000
DTSTAMP:20260423T190255
CREATED:20250117T042358Z
LAST-MODIFIED:20250117T042358Z
UID:8890-1694961000-1694971800@nnacdst.org
SUMMARY:An Afternoon of the Arts: An Afternoon of Amazing Talent
DESCRIPTION:Join us for an unforgettable afternoon filled with amazing talent at our event\, “An Afternoon of the Arts!” Get ready to be captivated by the creativity and skill of talented artists\, musicians\, and performers. \nDate: Sun\, Sep 17\, 2023 Time: 2:30 PM (Eastern Daylight Time) \nLocation: 740 Town Center Drive\, Newport News\, VA 23606 \nThis event promises to be a celebration of various art forms\, showcasing the talent and passion of local artists. From live music performances to captivating art exhibitions\, there will be something for everyone to enjoy. Come and immerse yourself in the vibrant atmosphere\, surrounded by creativity and inspiration. Whether you are an art enthusiast or simply looking for an enjoyable afternoon\, this event is not to be missed. \nMark your calendars and invite your friends and family to join us for “An Afternoon of Amazing Talent.” We can’t wait to see you there!
URL:https://nnacdst.org/event/an-afternoon-of-the-arts-an-afternoon-of-amazing-talent/
LOCATION:Newport News Marriott at City Center\, 740 Town Center Drive\, Newport News\, VA\, 23606\, United States
END:VEVENT
BEGIN:VEVENT
DTSTART;TZID=America/New_York:20230223T180000
DTEND;TZID=America/New_York:20230223T190000
DTSTAMP:20260423T190255
CREATED:20250117T042621Z
LAST-MODIFIED:20250117T042621Z
UID:8892-1677175200-1677178800@nnacdst.org
SUMMARY:Grow with Google Digital Skills for Everyday Tasks - Google Drive & Sheets Workshop
DESCRIPTION:Please join Newport News Alumnae Chapter as we present a Grow with Google Digital Skills for Everyday Tasks – Google Drive & Sheets Workshop on Thursday\, February 23\, 2023 at 6PM ET. \nLearn how to manage work and life tasks more effectively using Google tools. Whether you want to build a budget or organize your documents\, these best practices will boost your productivity. \nThis workshop is FREE and OPEN TO THE PUBLIC! So make sure to register using the link below and invite a friend! Once you register you will receive a confirmation email containing information about joining the meeting. \nPlease visit https://bit.ly/3HNtL1N to register
URL:https://nnacdst.org/event/grow-with-google-digital-skills-for-everyday-tasks-google-drive-sheets-workshop/
ATTACH;FMTTYPE=image/png:https://nnacdst.org/wp-content/uploads/2023/05/GwG_NNAC_Marketing_02232023EB.png
END:VEVENT
BEGIN:VEVENT
DTSTART;TZID=America/New_York:20230211T100000
DTEND;TZID=America/New_York:20230211T130000
DTSTAMP:20260423T190255
CREATED:20250117T042810Z
LAST-MODIFIED:20250117T042810Z
UID:8894-1676109600-1676120400@nnacdst.org
SUMMARY:Delta Fitness Love Affair Fundraiser
DESCRIPTION:Mark your calendars and join us and a host of DOPE MixxedFit\, COMMIT\, Zumba Fitness and Xtreme Burn instructors for the Delta Fitness Love Affair Fundraiser\, hosted by the Newport News Alumnae Chapter of Delta Sigma Theta Sorority\, Inc. on Saturday February 11th from 10-1pm at Warwick High School.\n\nIt’s that time of year again where we are raising money for college scholarships and we need your help. This year we have decided to donate a portion of the proceeds from this fundraiser to the American Heart Association in lieu of February being Heart Health Month .\n\nDelta Fitness Love Affair Tickets\, Sat\, Feb 11\, 2023 at 10:00 AM | Eventbrite\n\n\n\nPlease use the link above to purchase your $15 ticket and/or make a donation of any amount. Your participation and gratitude are greatly appreciated.
URL:https://nnacdst.org/event/delta-fitness-love-affair-fundraiser/
LOCATION:Warwick High School\, 51 Copeland Lane\, Newport News\, VA\, 23601\, United States
ATTACH;FMTTYPE=image/jpeg:https://nnacdst.org/wp-content/uploads/2023/01/Delta-Fitness-Love-Affair-flyer-1.jpg
END:VEVENT
BEGIN:VEVENT
DTSTART;TZID=America/New_York:20221030T080000
DTEND;TZID=America/New_York:20221030T170000
DTSTAMP:20260423T190255
CREATED:20250117T043325Z
LAST-MODIFIED:20250117T044626Z
UID:8899-1667116800-1667149200@nnacdst.org
SUMMARY:85th Anniversary Celebration
DESCRIPTION:Please join the Newport News Alumnae Chapter of Delta Sigma Theta Sorority\, Inc. as we celebrate the chapter’s 85th anniversary on Sunday October 30th from 12pm to 4pm. We will reflect and celebrate with a jazz brunch. Tickets are $65 per person. Masking will be required for entry. \nWe look forward to seeing you there! \nPurchase tickets on Eventbrite at the link below. \nhttps://nnac85thanniversary.eventbrite.com \n  \nWe also invite you to support the 85th Anniversary Celebration by entering a raffle for a $300 cash prize. Enter HERE! \nhttps://go.rallyup.com/85thanniversary
URL:https://nnacdst.org/event/85th-anniversary-celebration/
LOCATION:Sixth Mount Zion Stream Center\, 3100 Butternut Drive\, Hampton\, VA\, 23666\, United States
ATTACH;FMTTYPE=image/jpeg:https://nnacdst.org/wp-content/uploads/2022/12/Flyer-with-QR-Code-scaled.jpg
END:VEVENT
BEGIN:VEVENT
DTSTART;TZID=America/New_York:20220820T110000
DTEND;TZID=America/New_York:20220820T130000
DTSTAMP:20260423T190255
CREATED:20250117T043059Z
LAST-MODIFIED:20250117T044312Z
UID:8896-1660993200-1661000400@nnacdst.org
SUMMARY:NNAC RoundUp
DESCRIPTION:This event is for current members of Delta Sigma Theta Sorority\, Inc only.
URL:https://nnacdst.org/event/nnac-roundup/
LOCATION:Sandy Bottom Nature Park – Parker Pavilion\, 1255 Big Bethel Rd\, Hampton\, VA\, 23669\, United States
ATTACH;FMTTYPE=image/jpeg:https://nnacdst.org/wp-content/uploads/2022/12/IMG2414536211513960013-scaled.jpg
END:VEVENT
END:VCALENDAR